BEGIN:VCALENDAR
VERSION:2.0
PRODID:-//Comedy on State - ECPv6.15.18//NONSGML v1.0//EN
CALSCALE:GREGORIAN
METHOD:PUBLISH
X-ORIGINAL-URL:https://www.madisoncomedy.com
X-WR-CALDESC:Events for Comedy on State
REFRESH-INTERVAL;VALUE=DURATION:PT1H
X-Robots-Tag:noindex
X-PUBLISHED-TTL:PT1H
BEGIN:VTIMEZONE
TZID:America/Chicago
BEGIN:DAYLIGHT
TZOFFSETFROM:-0600
TZOFFSETTO:-0500
TZNAME:CDT
DTSTART:20240310T080000
END:DAYLIGHT
BEGIN:STANDARD
TZOFFSETFROM:-0500
TZOFFSETTO:-0600
TZNAME:CST
DTSTART:20241103T070000
END:STANDARD
BEGIN:DAYLIGHT
TZOFFSETFROM:-0600
TZOFFSETTO:-0500
TZNAME:CDT
DTSTART:20250309T080000
END:DAYLIGHT
BEGIN:STANDARD
TZOFFSETFROM:-0500
TZOFFSETTO:-0600
TZNAME:CST
DTSTART:20251102T070000
END:STANDARD
BEGIN:DAYLIGHT
TZOFFSETFROM:-0600
TZOFFSETTO:-0500
TZNAME:CDT
DTSTART:20260308T080000
END:DAYLIGHT
BEGIN:STANDARD
TZOFFSETFROM:-0500
TZOFFSETTO:-0600
TZNAME:CST
DTSTART:20261101T070000
END:STANDARD
END:VTIMEZONE
BEGIN:VEVENT
DTSTART;VALUE=DATE:20250703
DTEND;VALUE=DATE:20250706
DTSTAMP:20260424T015256
CREATED:20250527T185017Z
LAST-MODIFIED:20250630T230211Z
UID:10002559-1751500800-1751759999@www.madisoncomedy.com
SUMMARY:Closed
DESCRIPTION:We are closed for the holiday. Regular shows resume Wednesday\, July 9th. Have a safe and happy holiday!
URL:https://www.madisoncomedy.com/event/closed-july2025/
LOCATION:Comedy on State
CATEGORIES:current
ATTACH;FMTTYPE=image/jpeg:https://www.madisoncomedy.com/wp-content/uploads/CLOSED-July-2025-1-2-1.jpeg
ORGANIZER;CN="Comedy on State":MAILTO:info@madisoncomedy.com
END:VEVENT
BEGIN:VEVENT
DTSTART;TZID=America/Chicago:20250710T190000
DTEND;TZID=America/Chicago:20250710T203000
DTSTAMP:20260424T015256
CREATED:20250423T164549Z
LAST-MODIFIED:20250630T230227Z
UID:10002191-1752174000-1752179400@www.madisoncomedy.com
SUMMARY:Brooks Wheelan
DESCRIPTION:Brooks originally hails from Iowa where he attended the University of Iowa. In 2015\, he released his debut album This Is Cool\, Right?\, which hit #1 on the iTunes charts and was included on PASTE Magazine’s 10 Best Comedy Albums of 2015 list. His television credits include HBO’s Girls\, Comedy Central’s The Half Hour\, @Midnight\, Adam Devine’s House Party\, NBC’s Late Night with Seth Myers\, MTV’s Ridiculousness and TBS’ CONAN. He was a writer and cast member on Season 39 of NBC’s Saturday Night Live. Rolling Stone named Brooks as one the Top 45 Acts of Bonnaroo 2014. In 2012 he hit the comedy scene in stride when he was invited to perform at the New York Comedy Festival as a part of Comedy Central’s Top 10 Comics to Watch\, and was a breakout performer as a new face at the prestigious Just for Laughs Festival in Montreal. Other festival appearances include SXSW\, Sasquatch\, Austin’s Moontower Comedy Festival\, Portland’s Bridgetown Comedy Festival\, Comedy Central South Beach Comedy Festival. Brooks currently lives in Los Angeles and can be seen headlining colleges and clubs throughout the US. \nFAQ \nIf unable to attend please contact box office by 4pm day of show for ticket options\nAll tickets are will call only. We do not offer physical tickets\nComedy on State does not sell any tickets via third party sites. This includes\, but is not limited to\, Events Ticket Center\, Vivid Seats\, Cheap Tickets\, Seat Geek\, Tickets Mate\, and any site that is not madisoncomedy.com or etix.com\nMust be 18+ to attend\nTwo beverage minimum per person in showroom
URL:https://www.madisoncomedy.com/event/brooks-wheelan/2025-07-10/
LOCATION:Comedy on State
CATEGORIES:current
ATTACH;FMTTYPE=image/jpeg:https://www.madisoncomedy.com/wp-content/uploads/brooks.wheelan25.jpg
ORGANIZER;CN="Comedy on State":MAILTO:info@madisoncomedy.com
END:VEVENT
BEGIN:VEVENT
DTSTART;TZID=America/Chicago:20250711T190000
DTEND;TZID=America/Chicago:20250711T203000
DTSTAMP:20260424T015256
CREATED:20250423T164549Z
LAST-MODIFIED:20250630T230227Z
UID:10002192-1752260400-1752265800@www.madisoncomedy.com
SUMMARY:Brooks Wheelan
DESCRIPTION:Brooks originally hails from Iowa where he attended the University of Iowa. In 2015\, he released his debut album This Is Cool\, Right?\, which hit #1 on the iTunes charts and was included on PASTE Magazine’s 10 Best Comedy Albums of 2015 list. His television credits include HBO’s Girls\, Comedy Central’s The Half Hour\, @Midnight\, Adam Devine’s House Party\, NBC’s Late Night with Seth Myers\, MTV’s Ridiculousness and TBS’ CONAN. He was a writer and cast member on Season 39 of NBC’s Saturday Night Live. Rolling Stone named Brooks as one the Top 45 Acts of Bonnaroo 2014. In 2012 he hit the comedy scene in stride when he was invited to perform at the New York Comedy Festival as a part of Comedy Central’s Top 10 Comics to Watch\, and was a breakout performer as a new face at the prestigious Just for Laughs Festival in Montreal. Other festival appearances include SXSW\, Sasquatch\, Austin’s Moontower Comedy Festival\, Portland’s Bridgetown Comedy Festival\, Comedy Central South Beach Comedy Festival. Brooks currently lives in Los Angeles and can be seen headlining colleges and clubs throughout the US. \nFAQ \nIf unable to attend please contact box office by 4pm day of show for ticket options\nAll tickets are will call only. We do not offer physical tickets\nComedy on State does not sell any tickets via third party sites. This includes\, but is not limited to\, Events Ticket Center\, Vivid Seats\, Cheap Tickets\, Seat Geek\, Tickets Mate\, and any site that is not madisoncomedy.com or etix.com\nMust be 18+ to attend\nTwo beverage minimum per person in showroom
URL:https://www.madisoncomedy.com/event/brooks-wheelan/2025-07-11/1/
LOCATION:Comedy on State
CATEGORIES:current
ATTACH;FMTTYPE=image/jpeg:https://www.madisoncomedy.com/wp-content/uploads/brooks.wheelan25.jpg
ORGANIZER;CN="Comedy on State":MAILTO:info@madisoncomedy.com
END:VEVENT
BEGIN:VEVENT
DTSTART;TZID=America/Chicago:20250711T213000
DTEND;TZID=America/Chicago:20250711T230000
DTSTAMP:20260424T015256
CREATED:20250423T164549Z
LAST-MODIFIED:20250630T230227Z
UID:10002188-1752269400-1752274800@www.madisoncomedy.com
SUMMARY:Brooks Wheelan
DESCRIPTION:Brooks originally hails from Iowa where he attended the University of Iowa. In 2015\, he released his debut album This Is Cool\, Right?\, which hit #1 on the iTunes charts and was included on PASTE Magazine’s 10 Best Comedy Albums of 2015 list. His television credits include HBO’s Girls\, Comedy Central’s The Half Hour\, @Midnight\, Adam Devine’s House Party\, NBC’s Late Night with Seth Myers\, MTV’s Ridiculousness and TBS’ CONAN. He was a writer and cast member on Season 39 of NBC’s Saturday Night Live. Rolling Stone named Brooks as one the Top 45 Acts of Bonnaroo 2014. In 2012 he hit the comedy scene in stride when he was invited to perform at the New York Comedy Festival as a part of Comedy Central’s Top 10 Comics to Watch\, and was a breakout performer as a new face at the prestigious Just for Laughs Festival in Montreal. Other festival appearances include SXSW\, Sasquatch\, Austin’s Moontower Comedy Festival\, Portland’s Bridgetown Comedy Festival\, Comedy Central South Beach Comedy Festival. Brooks currently lives in Los Angeles and can be seen headlining colleges and clubs throughout the US. \nFAQ \nIf unable to attend please contact box office by 4pm day of show for ticket options\nAll tickets are will call only. We do not offer physical tickets\nComedy on State does not sell any tickets via third party sites. This includes\, but is not limited to\, Events Ticket Center\, Vivid Seats\, Cheap Tickets\, Seat Geek\, Tickets Mate\, and any site that is not madisoncomedy.com or etix.com\nMust be 18+ to attend\nTwo beverage minimum per person in showroom
URL:https://www.madisoncomedy.com/event/brooks-wheelan/2025-07-11/2/
LOCATION:Comedy on State
CATEGORIES:current
ATTACH;FMTTYPE=image/jpeg:https://www.madisoncomedy.com/wp-content/uploads/brooks.wheelan25.jpg
ORGANIZER;CN="Comedy on State":MAILTO:info@madisoncomedy.com
END:VEVENT
BEGIN:VEVENT
DTSTART;TZID=America/Chicago:20250712T190000
DTEND;TZID=America/Chicago:20250712T203000
DTSTAMP:20260424T015256
CREATED:20250423T164549Z
LAST-MODIFIED:20250630T230227Z
UID:10002193-1752346800-1752352200@www.madisoncomedy.com
SUMMARY:Brooks Wheelan
DESCRIPTION:Brooks originally hails from Iowa where he attended the University of Iowa. In 2015\, he released his debut album This Is Cool\, Right?\, which hit #1 on the iTunes charts and was included on PASTE Magazine’s 10 Best Comedy Albums of 2015 list. His television credits include HBO’s Girls\, Comedy Central’s The Half Hour\, @Midnight\, Adam Devine’s House Party\, NBC’s Late Night with Seth Myers\, MTV’s Ridiculousness and TBS’ CONAN. He was a writer and cast member on Season 39 of NBC’s Saturday Night Live. Rolling Stone named Brooks as one the Top 45 Acts of Bonnaroo 2014. In 2012 he hit the comedy scene in stride when he was invited to perform at the New York Comedy Festival as a part of Comedy Central’s Top 10 Comics to Watch\, and was a breakout performer as a new face at the prestigious Just for Laughs Festival in Montreal. Other festival appearances include SXSW\, Sasquatch\, Austin’s Moontower Comedy Festival\, Portland’s Bridgetown Comedy Festival\, Comedy Central South Beach Comedy Festival. Brooks currently lives in Los Angeles and can be seen headlining colleges and clubs throughout the US. \nFAQ \nIf unable to attend please contact box office by 4pm day of show for ticket options\nAll tickets are will call only. We do not offer physical tickets\nComedy on State does not sell any tickets via third party sites. This includes\, but is not limited to\, Events Ticket Center\, Vivid Seats\, Cheap Tickets\, Seat Geek\, Tickets Mate\, and any site that is not madisoncomedy.com or etix.com\nMust be 18+ to attend\nTwo beverage minimum per person in showroom
URL:https://www.madisoncomedy.com/event/brooks-wheelan/2025-07-12/1/
LOCATION:Comedy on State
CATEGORIES:current
ATTACH;FMTTYPE=image/jpeg:https://www.madisoncomedy.com/wp-content/uploads/brooks.wheelan25.jpg
ORGANIZER;CN="Comedy on State":MAILTO:info@madisoncomedy.com
END:VEVENT
BEGIN:VEVENT
DTSTART;TZID=America/Chicago:20250712T213000
DTEND;TZID=America/Chicago:20250712T230000
DTSTAMP:20260424T015256
CREATED:20250423T164549Z
LAST-MODIFIED:20250630T230227Z
UID:10002190-1752355800-1752361200@www.madisoncomedy.com
SUMMARY:Brooks Wheelan
DESCRIPTION:Brooks originally hails from Iowa where he attended the University of Iowa. In 2015\, he released his debut album This Is Cool\, Right?\, which hit #1 on the iTunes charts and was included on PASTE Magazine’s 10 Best Comedy Albums of 2015 list. His television credits include HBO’s Girls\, Comedy Central’s The Half Hour\, @Midnight\, Adam Devine’s House Party\, NBC’s Late Night with Seth Myers\, MTV’s Ridiculousness and TBS’ CONAN. He was a writer and cast member on Season 39 of NBC’s Saturday Night Live. Rolling Stone named Brooks as one the Top 45 Acts of Bonnaroo 2014. In 2012 he hit the comedy scene in stride when he was invited to perform at the New York Comedy Festival as a part of Comedy Central’s Top 10 Comics to Watch\, and was a breakout performer as a new face at the prestigious Just for Laughs Festival in Montreal. Other festival appearances include SXSW\, Sasquatch\, Austin’s Moontower Comedy Festival\, Portland’s Bridgetown Comedy Festival\, Comedy Central South Beach Comedy Festival. Brooks currently lives in Los Angeles and can be seen headlining colleges and clubs throughout the US. \nFAQ \nIf unable to attend please contact box office by 4pm day of show for ticket options\nAll tickets are will call only. We do not offer physical tickets\nComedy on State does not sell any tickets via third party sites. This includes\, but is not limited to\, Events Ticket Center\, Vivid Seats\, Cheap Tickets\, Seat Geek\, Tickets Mate\, and any site that is not madisoncomedy.com or etix.com\nMust be 18+ to attend\nTwo beverage minimum per person in showroom
URL:https://www.madisoncomedy.com/event/brooks-wheelan/2025-07-12/2/
LOCATION:Comedy on State
CATEGORIES:current
ATTACH;FMTTYPE=image/jpeg:https://www.madisoncomedy.com/wp-content/uploads/brooks.wheelan25.jpg
ORGANIZER;CN="Comedy on State":MAILTO:info@madisoncomedy.com
END:VEVENT
BEGIN:VEVENT
DTSTART;TZID=America/Chicago:20250717T080000
DTEND;TZID=America/Chicago:20250717T170000
DTSTAMP:20260424T015256
CREATED:20250423T171523Z
LAST-MODIFIED:20250714T170138Z
UID:10002195-1752739200-1752771600@www.madisoncomedy.com
SUMMARY:Matthew Broussard
DESCRIPTION:Matthew Broussard is a disgraced financial analyst forced into stand up comedy. The byproduct of a Cajun chemist and Jewish microbiologist\, he holds a degree in computational mathematics he always manages to bring up (just did it!) and is fully aware of how douchey he looks. His comedy is heady\, self-effacing\, and weirdly… educational? He’s performed on the Tonight Show\, Conan\, Jeff Ross Presents Roast Battle\, the Comedy Central Half Hour\, and some stuff with MTV2 he doesn’t like to talk about. You can catch him in The Marvelous Mrs. Maisel\, The League\, The Mindy Project\, and alongside Billy Crystal and Tiffany Haddish in the film Here Today. He is the creator of the webcomic and puzzle app\, Monday Punday. \nFAQ \nIf unable to attend please contact box office by 4pm day of show for ticket options\nAll tickets are will call only. We do not offer physical tickets\nComedy on State does not sell any tickets via third party sites. This includes\, but is not limited to\, Events Ticket Center\, Vivid Seats\, Cheap Tickets\, Seat Geek\, Tickets Mate\, and any site that is not madisoncomedy.com or etix.com\nMust be 18+ to attend\nTwo beverage minimum per person in showroom
URL:https://www.madisoncomedy.com/event/matthew-broussard25/2025-07-17/
LOCATION:Comedy on State
CATEGORIES:current
ATTACH;FMTTYPE=image/jpeg:https://www.madisoncomedy.com/wp-content/uploads/m.broussard25.jpg
ORGANIZER;CN="Comedy on State":MAILTO:info@madisoncomedy.com
END:VEVENT
BEGIN:VEVENT
DTSTART;TZID=America/Chicago:20250718T190000
DTEND;TZID=America/Chicago:20250718T203000
DTSTAMP:20260424T015256
CREATED:20250423T171523Z
LAST-MODIFIED:20250714T170138Z
UID:10002196-1752865200-1752870600@www.madisoncomedy.com
SUMMARY:Matthew Broussard
DESCRIPTION:Matthew Broussard is a disgraced financial analyst forced into stand up comedy. The byproduct of a Cajun chemist and Jewish microbiologist\, he holds a degree in computational mathematics he always manages to bring up (just did it!) and is fully aware of how douchey he looks. His comedy is heady\, self-effacing\, and weirdly… educational? He’s performed on the Tonight Show\, Conan\, Jeff Ross Presents Roast Battle\, the Comedy Central Half Hour\, and some stuff with MTV2 he doesn’t like to talk about. You can catch him in The Marvelous Mrs. Maisel\, The League\, The Mindy Project\, and alongside Billy Crystal and Tiffany Haddish in the film Here Today. He is the creator of the webcomic and puzzle app\, Monday Punday. \nFAQ \nIf unable to attend please contact box office by 4pm day of show for ticket options\nAll tickets are will call only. We do not offer physical tickets\nComedy on State does not sell any tickets via third party sites. This includes\, but is not limited to\, Events Ticket Center\, Vivid Seats\, Cheap Tickets\, Seat Geek\, Tickets Mate\, and any site that is not madisoncomedy.com or etix.com\nMust be 18+ to attend\nTwo beverage minimum per person in showroom
URL:https://www.madisoncomedy.com/event/matthew-broussard25/2025-07-18/1/
LOCATION:Comedy on State
CATEGORIES:current
ATTACH;FMTTYPE=image/jpeg:https://www.madisoncomedy.com/wp-content/uploads/m.broussard25.jpg
ORGANIZER;CN="Comedy on State":MAILTO:info@madisoncomedy.com
END:VEVENT
BEGIN:VEVENT
DTSTART;TZID=America/Chicago:20250718T213000
DTEND;TZID=America/Chicago:20250718T230000
DTSTAMP:20260424T015256
CREATED:20250423T171523Z
LAST-MODIFIED:20250714T170138Z
UID:10002197-1752874200-1752879600@www.madisoncomedy.com
SUMMARY:Matthew Broussard
DESCRIPTION:Matthew Broussard is a disgraced financial analyst forced into stand up comedy. The byproduct of a Cajun chemist and Jewish microbiologist\, he holds a degree in computational mathematics he always manages to bring up (just did it!) and is fully aware of how douchey he looks. His comedy is heady\, self-effacing\, and weirdly… educational? He’s performed on the Tonight Show\, Conan\, Jeff Ross Presents Roast Battle\, the Comedy Central Half Hour\, and some stuff with MTV2 he doesn’t like to talk about. You can catch him in The Marvelous Mrs. Maisel\, The League\, The Mindy Project\, and alongside Billy Crystal and Tiffany Haddish in the film Here Today. He is the creator of the webcomic and puzzle app\, Monday Punday. \nFAQ \nIf unable to attend please contact box office by 4pm day of show for ticket options\nAll tickets are will call only. We do not offer physical tickets\nComedy on State does not sell any tickets via third party sites. This includes\, but is not limited to\, Events Ticket Center\, Vivid Seats\, Cheap Tickets\, Seat Geek\, Tickets Mate\, and any site that is not madisoncomedy.com or etix.com\nMust be 18+ to attend\nTwo beverage minimum per person in showroom
URL:https://www.madisoncomedy.com/event/matthew-broussard25/2025-07-18/2/
LOCATION:Comedy on State
CATEGORIES:current
ATTACH;FMTTYPE=image/jpeg:https://www.madisoncomedy.com/wp-content/uploads/m.broussard25.jpg
ORGANIZER;CN="Comedy on State":MAILTO:info@madisoncomedy.com
END:VEVENT
BEGIN:VEVENT
DTSTART;TZID=America/Chicago:20250719T190000
DTEND;TZID=America/Chicago:20250719T203000
DTSTAMP:20260424T015256
CREATED:20250423T171523Z
LAST-MODIFIED:20250714T170138Z
UID:10002198-1752951600-1752957000@www.madisoncomedy.com
SUMMARY:Matthew Broussard
DESCRIPTION:Matthew Broussard is a disgraced financial analyst forced into stand up comedy. The byproduct of a Cajun chemist and Jewish microbiologist\, he holds a degree in computational mathematics he always manages to bring up (just did it!) and is fully aware of how douchey he looks. His comedy is heady\, self-effacing\, and weirdly… educational? He’s performed on the Tonight Show\, Conan\, Jeff Ross Presents Roast Battle\, the Comedy Central Half Hour\, and some stuff with MTV2 he doesn’t like to talk about. You can catch him in The Marvelous Mrs. Maisel\, The League\, The Mindy Project\, and alongside Billy Crystal and Tiffany Haddish in the film Here Today. He is the creator of the webcomic and puzzle app\, Monday Punday. \nFAQ \nIf unable to attend please contact box office by 4pm day of show for ticket options\nAll tickets are will call only. We do not offer physical tickets\nComedy on State does not sell any tickets via third party sites. This includes\, but is not limited to\, Events Ticket Center\, Vivid Seats\, Cheap Tickets\, Seat Geek\, Tickets Mate\, and any site that is not madisoncomedy.com or etix.com\nMust be 18+ to attend\nTwo beverage minimum per person in showroom
URL:https://www.madisoncomedy.com/event/matthew-broussard25/2025-07-19/1/
LOCATION:Comedy on State
CATEGORIES:current
ATTACH;FMTTYPE=image/jpeg:https://www.madisoncomedy.com/wp-content/uploads/m.broussard25.jpg
ORGANIZER;CN="Comedy on State":MAILTO:info@madisoncomedy.com
END:VEVENT
BEGIN:VEVENT
DTSTART;TZID=America/Chicago:20250719T213000
DTEND;TZID=America/Chicago:20250719T230000
DTSTAMP:20260424T015256
CREATED:20250423T171523Z
LAST-MODIFIED:20250714T170138Z
UID:10002199-1752960600-1752966000@www.madisoncomedy.com
SUMMARY:Matthew Broussard
DESCRIPTION:Matthew Broussard is a disgraced financial analyst forced into stand up comedy. The byproduct of a Cajun chemist and Jewish microbiologist\, he holds a degree in computational mathematics he always manages to bring up (just did it!) and is fully aware of how douchey he looks. His comedy is heady\, self-effacing\, and weirdly… educational? He’s performed on the Tonight Show\, Conan\, Jeff Ross Presents Roast Battle\, the Comedy Central Half Hour\, and some stuff with MTV2 he doesn’t like to talk about. You can catch him in The Marvelous Mrs. Maisel\, The League\, The Mindy Project\, and alongside Billy Crystal and Tiffany Haddish in the film Here Today. He is the creator of the webcomic and puzzle app\, Monday Punday. \nFAQ \nIf unable to attend please contact box office by 4pm day of show for ticket options\nAll tickets are will call only. We do not offer physical tickets\nComedy on State does not sell any tickets via third party sites. This includes\, but is not limited to\, Events Ticket Center\, Vivid Seats\, Cheap Tickets\, Seat Geek\, Tickets Mate\, and any site that is not madisoncomedy.com or etix.com\nMust be 18+ to attend\nTwo beverage minimum per person in showroom
URL:https://www.madisoncomedy.com/event/matthew-broussard25/2025-07-19/2/
LOCATION:Comedy on State
CATEGORIES:current
ATTACH;FMTTYPE=image/jpeg:https://www.madisoncomedy.com/wp-content/uploads/m.broussard25.jpg
ORGANIZER;CN="Comedy on State":MAILTO:info@madisoncomedy.com
END:VEVENT
BEGIN:VEVENT
DTSTART;TZID=America/Chicago:20250724T190000
DTEND;TZID=America/Chicago:20250724T203000
DTSTAMP:20260424T015256
CREATED:20250709T184241Z
LAST-MODIFIED:20250720T141327Z
UID:10002574-1753383600-1753389000@www.madisoncomedy.com
SUMMARY:Best of the Midwest
DESCRIPTION:Featuring a handpicked selection of both established and up-and-coming comics\, the Best of the Midwest Comedy Showcase sheds a spotlight on some of the best in the local and regional comedy scene. Think the Mic on State on steroids! \nFAQ \nIf unable to attend please contact box office by 4pm day of show for ticket options\nAll tickets are will call only. We do not offer physical tickets\nComedy on State does not sell any tickets via third party sites. This includes\, but is not limited to\, Events Ticket Center\, Vivid Seats\, Cheap Tickets\, Seat Geek\, Tickets Mate\, and any site that is not madisoncomedy.com or etix.com\nMust be 18+ to attend\nTwo beverage minimum per person in showroom
URL:https://www.madisoncomedy.com/event/best-of-the-midwest/2025-07-24/
LOCATION:Comedy on State
CATEGORIES:current
ATTACH;FMTTYPE=image/jpeg:https://www.madisoncomedy.com/wp-content/uploads/BOTM1.22-copy.jpg
ORGANIZER;CN="Comedy on State":MAILTO:info@madisoncomedy.com
END:VEVENT
BEGIN:VEVENT
DTSTART;TZID=America/Chicago:20250725T190000
DTEND;TZID=America/Chicago:20250725T203000
DTSTAMP:20260424T015256
CREATED:20250709T184241Z
LAST-MODIFIED:20250720T141327Z
UID:10002575-1753470000-1753475400@www.madisoncomedy.com
SUMMARY:Best of the Midwest
DESCRIPTION:Featuring a handpicked selection of both established and up-and-coming comics\, the Best of the Midwest Comedy Showcase sheds a spotlight on some of the best in the local and regional comedy scene. Think the Mic on State on steroids! \nFAQ \nIf unable to attend please contact box office by 4pm day of show for ticket options\nAll tickets are will call only. We do not offer physical tickets\nComedy on State does not sell any tickets via third party sites. This includes\, but is not limited to\, Events Ticket Center\, Vivid Seats\, Cheap Tickets\, Seat Geek\, Tickets Mate\, and any site that is not madisoncomedy.com or etix.com\nMust be 18+ to attend\nTwo beverage minimum per person in showroom
URL:https://www.madisoncomedy.com/event/best-of-the-midwest/2025-07-25/
LOCATION:Comedy on State
CATEGORIES:current
ATTACH;FMTTYPE=image/jpeg:https://www.madisoncomedy.com/wp-content/uploads/BOTM1.22-copy.jpg
ORGANIZER;CN="Comedy on State":MAILTO:info@madisoncomedy.com
END:VEVENT
BEGIN:VEVENT
DTSTART;TZID=America/Chicago:20250726T190000
DTEND;TZID=America/Chicago:20250726T203000
DTSTAMP:20260424T015256
CREATED:20250709T184241Z
LAST-MODIFIED:20250720T141327Z
UID:10002576-1753556400-1753561800@www.madisoncomedy.com
SUMMARY:Best of the Midwest
DESCRIPTION:Featuring a handpicked selection of both established and up-and-coming comics\, the Best of the Midwest Comedy Showcase sheds a spotlight on some of the best in the local and regional comedy scene. Think the Mic on State on steroids! \nFAQ \nIf unable to attend please contact box office by 4pm day of show for ticket options\nAll tickets are will call only. We do not offer physical tickets\nComedy on State does not sell any tickets via third party sites. This includes\, but is not limited to\, Events Ticket Center\, Vivid Seats\, Cheap Tickets\, Seat Geek\, Tickets Mate\, and any site that is not madisoncomedy.com or etix.com\nMust be 18+ to attend\nTwo beverage minimum per person in showroom
URL:https://www.madisoncomedy.com/event/best-of-the-midwest/2025-07-26/
LOCATION:Comedy on State
CATEGORIES:current
ATTACH;FMTTYPE=image/jpeg:https://www.madisoncomedy.com/wp-content/uploads/BOTM1.22-copy.jpg
ORGANIZER;CN="Comedy on State":MAILTO:info@madisoncomedy.com
END:VEVENT
BEGIN:VEVENT
DTSTART;TZID=America/Chicago:20250731T190000
DTEND;TZID=America/Chicago:20250731T203000
DTSTAMP:20260424T015256
CREATED:20250722T183344Z
LAST-MODIFIED:20250731T161700Z
UID:10002589-1753988400-1753993800@www.madisoncomedy.com
SUMMARY:Ryan Donahue
DESCRIPTION:Ryan Donahue is a comedian\, writer\, and actor based in New York City. He’s been featured on Jimmy Kimmel Live\, HBO’s Crashing\, and Pause With Sam Jay\, where he was nominated for multiple WGA awards as a staff writer. As a stand up\, Ryan has toured with Norm Macdonald\, appeared on Stavvy’s World and The Adam Friedland Show\, and his recent set with Don’t Tell Comedy has amassed over two million views on YouTube. Also\, his grandparents tell him he should meet David Letterman. If anyone has seen David\, please relay this information to him. Thank you. \nFAQ \nIf unable to attend please contact box office by 4pm day of show for ticket options\nAll tickets are will call only. We do not offer physical tickets\nComedy on State does not sell any tickets via third party sites. This includes\, but is not limited to\, Events Ticket Center\, Vivid Seats\, Cheap Tickets\, Seat Geek\, Tickets Mate\, and any site that is not madisoncomedy.com or etix.com\nMust be 18+ to attend\nTwo beverage minimum per person in showroom
URL:https://www.madisoncomedy.com/event/ryan-donahue/2025-07-31/
LOCATION:Comedy on State
CATEGORIES:current
ATTACH;FMTTYPE=image/jpeg:https://www.madisoncomedy.com/wp-content/uploads/RDonahue25.jpg
ORGANIZER;CN="Comedy on State":MAILTO:info@madisoncomedy.com
END:VEVENT
END:VCALENDAR