BEGIN:VCALENDAR
VERSION:2.0
PRODID:-//Comedy on State - ECPv6.15.18//NONSGML v1.0//EN
CALSCALE:GREGORIAN
METHOD:PUBLISH
X-ORIGINAL-URL:https://www.madisoncomedy.com
X-WR-CALDESC:Events for Comedy on State
REFRESH-INTERVAL;VALUE=DURATION:PT1H
X-Robots-Tag:noindex
X-PUBLISHED-TTL:PT1H
BEGIN:VTIMEZONE
TZID:America/Chicago
BEGIN:DAYLIGHT
TZOFFSETFROM:-0600
TZOFFSETTO:-0500
TZNAME:CDT
DTSTART:20250309T080000
END:DAYLIGHT
BEGIN:STANDARD
TZOFFSETFROM:-0500
TZOFFSETTO:-0600
TZNAME:CST
DTSTART:20251102T070000
END:STANDARD
BEGIN:DAYLIGHT
TZOFFSETFROM:-0600
TZOFFSETTO:-0500
TZNAME:CDT
DTSTART:20260308T080000
END:DAYLIGHT
BEGIN:STANDARD
TZOFFSETFROM:-0500
TZOFFSETTO:-0600
TZNAME:CST
DTSTART:20261101T070000
END:STANDARD
BEGIN:DAYLIGHT
TZOFFSETFROM:-0600
TZOFFSETTO:-0500
TZNAME:CDT
DTSTART:20270314T080000
END:DAYLIGHT
BEGIN:STANDARD
TZOFFSETFROM:-0500
TZOFFSETTO:-0600
TZNAME:CST
DTSTART:20271107T070000
END:STANDARD
END:VTIMEZONE
BEGIN:VEVENT
DTSTART;TZID=America/Chicago:20260603T200000
DTEND;TZID=America/Chicago:20260603T223000
DTSTAMP:20260423T124730
CREATED:20260325T140212Z
LAST-MODIFIED:20260404T205018Z
UID:10002897-1780516800-1780525800@www.madisoncomedy.com
SUMMARY:Mic on State
DESCRIPTION:Click HERE to sign up! \nOne of the largest open mics in the country\, the Mic on State takes place every Wednesday at Comedy on State! \nDoors open to the public at 6:30pm\, where you can grab a drink and wait for that 8pm showtime. $5 admission is paid at the door. \nSeating is first come\, first serve and there is no beverage minimum. Bar service only. \nThe Mic features 20 comedians every week and you never know who might make an appearance! \nVisit our OPEN MIC PAGE for sign up information\, FAQ’s and more!
URL:https://www.madisoncomedy.com/event/mic-2/2026-06-03/
LOCATION:Comedy on State
CATEGORIES:current,mic
ATTACH;FMTTYPE=image/jpeg:https://www.madisoncomedy.com/wp-content/uploads/Mic-on-State.jpg
END:VEVENT
BEGIN:VEVENT
DTSTART;TZID=America/Chicago:20260610T200000
DTEND;TZID=America/Chicago:20260610T223000
DTSTAMP:20260423T124730
CREATED:20260325T140212Z
LAST-MODIFIED:20260404T205018Z
UID:10002898-1781121600-1781130600@www.madisoncomedy.com
SUMMARY:Mic on State
DESCRIPTION:Click HERE to sign up! \nOne of the largest open mics in the country\, the Mic on State takes place every Wednesday at Comedy on State! \nDoors open to the public at 6:30pm\, where you can grab a drink and wait for that 8pm showtime. $5 admission is paid at the door. \nSeating is first come\, first serve and there is no beverage minimum. Bar service only. \nThe Mic features 20 comedians every week and you never know who might make an appearance! \nVisit our OPEN MIC PAGE for sign up information\, FAQ’s and more!
URL:https://www.madisoncomedy.com/event/mic-2/2026-06-10/
LOCATION:Comedy on State
CATEGORIES:current,mic
ATTACH;FMTTYPE=image/jpeg:https://www.madisoncomedy.com/wp-content/uploads/Mic-on-State.jpg
END:VEVENT
BEGIN:VEVENT
DTSTART;TZID=America/Chicago:20260617T200000
DTEND;TZID=America/Chicago:20260617T223000
DTSTAMP:20260423T124730
CREATED:20260325T140212Z
LAST-MODIFIED:20260404T205018Z
UID:10002899-1781726400-1781735400@www.madisoncomedy.com
SUMMARY:Mic on State
DESCRIPTION:Click HERE to sign up! \nOne of the largest open mics in the country\, the Mic on State takes place every Wednesday at Comedy on State! \nDoors open to the public at 6:30pm\, where you can grab a drink and wait for that 8pm showtime. $5 admission is paid at the door. \nSeating is first come\, first serve and there is no beverage minimum. Bar service only. \nThe Mic features 20 comedians every week and you never know who might make an appearance! \nVisit our OPEN MIC PAGE for sign up information\, FAQ’s and more!
URL:https://www.madisoncomedy.com/event/mic-2/2026-06-17/
LOCATION:Comedy on State
CATEGORIES:current,mic
ATTACH;FMTTYPE=image/jpeg:https://www.madisoncomedy.com/wp-content/uploads/Mic-on-State.jpg
END:VEVENT
BEGIN:VEVENT
DTSTART;TZID=America/Chicago:20260624T200000
DTEND;TZID=America/Chicago:20260624T223000
DTSTAMP:20260423T124730
CREATED:20260325T140212Z
LAST-MODIFIED:20260404T205018Z
UID:10002900-1782331200-1782340200@www.madisoncomedy.com
SUMMARY:Mic on State
DESCRIPTION:Click HERE to sign up! \nOne of the largest open mics in the country\, the Mic on State takes place every Wednesday at Comedy on State! \nDoors open to the public at 6:30pm\, where you can grab a drink and wait for that 8pm showtime. $5 admission is paid at the door. \nSeating is first come\, first serve and there is no beverage minimum. Bar service only. \nThe Mic features 20 comedians every week and you never know who might make an appearance! \nVisit our OPEN MIC PAGE for sign up information\, FAQ’s and more!
URL:https://www.madisoncomedy.com/event/mic-2/2026-06-24/
LOCATION:Comedy on State
CATEGORIES:current,mic
ATTACH;FMTTYPE=image/jpeg:https://www.madisoncomedy.com/wp-content/uploads/Mic-on-State.jpg
END:VEVENT
END:VCALENDAR